BEGIN:VCALENDAR
VERSION:2.0
PRODID:-//HecksEper events Home - ECPv6.0.13.1//NONSGML v1.0//EN
CALSCALE:GREGORIAN
METHOD:PUBLISH
X-WR-CALNAME:HecksEper events Home
X-ORIGINAL-URL:https://www.jobcluj.com
X-WR-CALDESC:Events for HecksEper events Home
REFRESH-INTERVAL;VALUE=DURATION:PT1H
X-Robots-Tag:noindex
X-PUBLISHED-TTL:PT1H
BEGIN:VTIMEZONE
TZID:Europe/Bucharest
BEGIN:DAYLIGHT
TZOFFSETFROM:+0200
TZOFFSETTO:+0300
TZNAME:EEST
DTSTART:20230326T010000
END:DAYLIGHT
BEGIN:STANDARD
TZOFFSETFROM:+0300
TZOFFSETTO:+0200
TZNAME:EET
DTSTART:20231029T010000
END:STANDARD
END:VTIMEZONE
BEGIN:VEVENT
DTSTART;TZID=Europe/Bucharest:20230518T120000
DTEND;TZID=Europe/Bucharest:20230518T120000
DTSTAMP:20260421T222544
CREATED:20230517T141440Z
LAST-MODIFIED:20230517T143716Z
UID:61-1684411200-1684411200@www.jobcluj.com
SUMMARY:2. Workshop of filling out the AJOFM documents/ Воркшоп про те\, як правильно заповнити форми для AJOFM
DESCRIPTION:
URL:https://www.jobcluj.com/event/workshop-of-filling-out-the-ajofm-documents-%d0%b2%d0%be%d1%80%d0%ba%d1%88%d0%be%d0%bf-%d0%bf%d1%80%d0%be-%d1%82%d0%b5-%d1%8f%d0%ba-%d0%bf%d1%80%d0%b0%d0%b2%d0%b8%d0%bb%d1%8c%d0%bd%d0%be-%d0%b7/
LOCATION:Cluj
END:VEVENT
BEGIN:VEVENT
DTSTART;TZID=Europe/Bucharest:20230518T100000
DTEND;TZID=Europe/Bucharest:20230518T100000
DTSTAMP:20260421T222544
CREATED:20230517T060542Z
LAST-MODIFIED:20230517T143526Z
UID:44-1684404000-1684404000@www.jobcluj.com
SUMMARY:1. Workshop of filling out the AJOFM documents/ Воркшоп про те\, як правильно заповнити форми для AJOFM
DESCRIPTION: 
URL:https://www.jobcluj.com/event/new/
LOCATION:Cluj
END:VEVENT
END:VCALENDAR